BEGIN:VCALENDAR
VERSION:2.0
PRODID:-//North West Invertebrates - ECPv6.15.12//NONSGML v1.0//EN
CALSCALE:GREGORIAN
METHOD:PUBLISH
X-WR-CALNAME:North West Invertebrates
X-ORIGINAL-URL:https://www.northwestinvertebrates.org.uk
X-WR-CALDESC:Events for North West Invertebrates
REFRESH-INTERVAL;VALUE=DURATION:PT1H
X-Robots-Tag:noindex
X-PUBLISHED-TTL:PT1H
BEGIN:VTIMEZONE
TZID:Europe/London
BEGIN:DAYLIGHT
TZOFFSETFROM:+0000
TZOFFSETTO:+0100
TZNAME:BST
DTSTART:20250330T010000
END:DAYLIGHT
BEGIN:STANDARD
TZOFFSETFROM:+0100
TZOFFSETTO:+0000
TZNAME:GMT
DTSTART:20251026T010000
END:STANDARD
BEGIN:DAYLIGHT
TZOFFSETFROM:+0000
TZOFFSETTO:+0100
TZNAME:BST
DTSTART:20260329T010000
END:DAYLIGHT
BEGIN:STANDARD
TZOFFSETFROM:+0100
TZOFFSETTO:+0000
TZNAME:GMT
DTSTART:20261025T010000
END:STANDARD
BEGIN:DAYLIGHT
TZOFFSETFROM:+0000
TZOFFSETTO:+0100
TZNAME:BST
DTSTART:20270328T010000
END:DAYLIGHT
BEGIN:STANDARD
TZOFFSETFROM:+0100
TZOFFSETTO:+0000
TZNAME:GMT
DTSTART:20271031T010000
END:STANDARD
END:VTIMEZONE
BEGIN:VEVENT
DTSTART;TZID=Europe/London:20260424T103000
DTEND;TZID=Europe/London:20260717T160000
DTSTAMP:20260426T011056
CREATED:20251222T102846Z
LAST-MODIFIED:20251222T102846Z
UID:24464-1777026600-1784304000@www.northwestinvertebrates.org.uk
SUMMARY:Bee Identification Training: From Field to Microscope
DESCRIPTION:Book here \nInterested in bees but unsure where to start in identifying them? Confused by terminology in identification keys? This workshop series aims to help you develop skills in finding bees\, examining them in the field or under a microscope\, and getting to grips with using identification guides. You will learn at a comfortable pace across four days in spring and summer: three practical workshops plus an optional lab day for extra support. No prior experience required\, but also suitable for those with some experience wishing to progress their bee identification skills. \nYou’ll gain confidence and practical skills under the guidance of Chloe Aldridge. Chloe brings over seven years of experience recording bees across Cheshire\, working with the Cheshire Bee Group and in her former role as Monitoring Officer for Cheshire’s Local Record Centre. She’s also a committee member at BWARS – the Bees\, Wasps & Ants Recording Society. \nWhat you’ll learn: \n\nBee identification guide terminology\nHow to identify bees to genera – e.g. Bumblebee (Bombus)\, Leafcutter Bee (Megachile)\, Mining Bee (Andrena) and some to species.\nHow to catch bees with nets and pots\, and use a hand lens\nHow to photograph bees for identification – and limitations\nHow to find and identify bees in the field\nHow to use identification keys and microscopes for those which cannot be identified in the field\nSpecimen handling skills\, including preparing and labelling voucher specimens\nHow to record your finds and where to get further help\nUsing keys to help you start identifying bees to species\n\n  \nDay 1 – 24th April (10:30 – 16:00) Introduction to Bees. World Museum Liverpool  \n\nIntroduction to bees: ecology and diversity\nIdentifying genera\nTerminology and describing bees\nOutdoor session: recognising bees in the field\n\n  \nDay 2 – 22nd May (10:00 – 15:30) *Note the earlier start time* Bees in the Field. Ness Gardens\, Wirral  \n\nUsing nets\, pots\, and hand lenses\nPhotographing bees for identification\nWhere to find bees and field skills\nTerminology and describing bees (continued)\nHandling specimens and further exploring genera\n\n  \nDay 3 – 19th June (10:30 – 16:00) Bees under the microscope\, World Museum\, Liverpool \n\nIdentification using microscopes\nAn intro to species-level identification\nWorking with specimens collected at Ness Gardens\n\n  \nDay 4 – 17th July (10:30 – 16:00) Bee Identification Help. World Museum\, Liverpool (optional) \n\nExtra practice with microscopes and keys\nHands-on help with identification and recording
URL:https://www.northwestinvertebrates.org.uk/event/beeseries/
LOCATION:World Museum\, William Brown Street\, Liverpool\, England\, L3 8EN\, United Kingdom
CATEGORIES:Workshops
ATTACH;FMTTYPE=image/jpeg:https://www.northwestinvertebrates.org.uk/wp-content/uploads/2024/11/Bee-workshop-Gold-fringed-Mason-Bee-Osmia-aurulenta-scaled.jpg
END:VEVENT
BEGIN:VEVENT
DTSTART;TZID=Europe/London:20260703T100000
DTEND;TZID=Europe/London:20260703T160000
DTSTAMP:20260426T011056
CREATED:20260304T150000Z
LAST-MODIFIED:20260304T150000Z
UID:25008-1783072800-1783094400@www.northwestinvertebrates.org.uk
SUMMARY:Alvaston Hall Invertebrate Recording Day
DESCRIPTION:Book here. \nAlvaston Hall is a hotel complex in South Cheshire with extensive grounds on the floodplains of the River Weaver. The area of interest was formerly a 9-hole golf course that never re-opened since the Covid-19 pandemic. It has since been managed by the groundsmen for wildlife. There is a developing a mosaic of species-rich grassland and scrub habitats alongside ponds and small patches of woodland. There are also small sand deposits that were formerly bunkers. We are not aware of any attempt to record invertebrates on the site apart from butterflies\, and the odd casual observation of other groups. \nCar park and toilet facilities available. \nNearest train station: Nantwich – the 85 bus goes from Nantwich bus station and stops on Middlewich Road outside the hall. \n​Please be aware that whilst we welcome invertebrate recorders of all experience levels\, our recording days are not taught or guided sessions. (Check out our webinars/workshops here). \nEvents will be subject to cancellation if there is severe weather forecast. \nBooking essential: Further details regarding meeting place etc. will be circulated before the day.
URL:https://www.northwestinvertebrates.org.uk/event/alvastonhall/
CATEGORIES:Recording Days
ATTACH;FMTTYPE=image/jpeg:https://www.northwestinvertebrates.org.uk/wp-content/uploads/2026/03/20260112_114441-scaled.jpg
END:VEVENT
BEGIN:VEVENT
DTSTART;TZID=Europe/London:20260708T100000
DTEND;TZID=Europe/London:20260708T160000
DTSTAMP:20260426T011056
CREATED:20260115T094450Z
LAST-MODIFIED:20260120T105117Z
UID:24607-1783504800-1783526400@www.northwestinvertebrates.org.uk
SUMMARY:An Introduction to Invertebrate Identification Workshop
DESCRIPTION:Book here (via RECORD LERC) \n\n\n\n\n\nHave you ever wanted to identify an invertebrate but weren’t sure where to start?  \nIn this introductory workshop at the beautiful Ness Gardens\, we’ll be looking at the differences between some of the commonly encountered invertebrate ‘orders’ (groups). Experts from RECORD and Tanyptera will be guiding us through the features of each group and how to identify invertebrates to order level. \nWhat to expect: \n\nWe’ll spend some time in the classroom learning about invertebrate orders and features\nThere will be plenty of opportunity to get ‘hands on’ with identification and practice your skills\nWeather permitting\, we’ll be exploring the gardens with a chance to try out some ‘in the field’ identification\n\nBy the end of the session we hope that you’ll: \n\nHave a good understanding of the features seen in the more commonly encountered invertebrate orders\nBe able to identify at least some common invertebrates to order level\nKnow how to use this knowledge to help with more detailed identification (e.g. to species level)\nGain some knowledge on how to make your invertebrate observations count for conservation through sharing your records\n\nAccessibility: You can find more information on accessibility at Ness Gardens here. If you have any mobility needs or other additional needs please do not hesitate to get in touch with us ahead of the event to discuss (email info@record-lrc.co.uk). \nThe event is free to attend and is aimed at adults. Details on the exact meeting point will be emailed to you by RECORD LERC when you book – please check your spam box if you’ve not heard from us. \nThe session is hosted by RECORD and The Tanyptera Project. Please email any questions to info@record-lrc.co.uk. \nWorkshop Level: Beginner
URL:https://www.northwestinvertebrates.org.uk/event/introtoinvertebrate/
LOCATION:Ness Botanic Gardens\, Ness\, CH64 4AY
CATEGORIES:Workshops
ATTACH;FMTTYPE=image/png:https://www.northwestinvertebrates.org.uk/wp-content/uploads/2025/06/ibgxg7rnjizelnjfsdcm.png
ORGANIZER;CN="RECORD":MAILTO:info@record-lrc.co.uk
END:VEVENT
BEGIN:VEVENT
DTSTART;TZID=Europe/London:20260710T100000
DTEND;TZID=Europe/London:20260710T160000
DTSTAMP:20260426T011056
CREATED:20260304T150453Z
LAST-MODIFIED:20260304T150453Z
UID:25011-1783677600-1783699200@www.northwestinvertebrates.org.uk
SUMMARY:Dibbinsdale Nature Reserve Invertebrate Recording Day
DESCRIPTION:Book here. \nThe river Dibbin runs through the centre of Dibbinsdale Nature Reserve with 3 miles of maintained pathways leading through ancient woodland\, tunnels\, wetland areas and meadows. \nThere is a car park and toilet facilities on site. \nNearest train station: Spital – 15 min walk to the car park/meeting spot. \nNearest bus stop: Opposite main entrance – local Wirral services. \n​Please be aware that whilst we welcome invertebrate recorders of all experience levels\, our recording days are not taught or guided sessions. (Check out our webinars/workshops here). \nEvents will be subject to cancellation if there is severe weather forecast. \nBooking essential: Further details regarding meeting place etc. will be circulated before the day.
URL:https://www.northwestinvertebrates.org.uk/event/dibbinsdale/
CATEGORIES:Recording Days
ATTACH;FMTTYPE=image/jpeg:https://www.northwestinvertebrates.org.uk/wp-content/uploads/2026/03/20250726_141139-scaled.jpg
END:VEVENT
BEGIN:VEVENT
DTSTART;TZID=Europe/London:20260724T100000
DTEND;TZID=Europe/London:20260724T160000
DTSTAMP:20260426T011056
CREATED:20260304T150836Z
LAST-MODIFIED:20260304T150836Z
UID:25014-1784887200-1784908800@www.northwestinvertebrates.org.uk
SUMMARY:Freshfield Dune Heath Invertebrate Recording Day
DESCRIPTION:Book here. \nFreshfield Dune Heath is a mixture of woodland\, scrub and acidic grassland woven through a lowland dune heath: 9% of the national total of this incredibly rare habitat. It is the single largest lowland heath site in North West England. \nOn-street parking available. \nPlease note there are no toilets on site but there are a couple of coffee shops near Freshfield Train Station (approx. 15 min walk away from the site entrance). \nNearest train station: Freshfield – 15 min walk to meeting spot \nNearest bus stop: On Massam Road – Services to/from Formby – 8 min walk to meeting spot \n​Please be aware that whilst we welcome invertebrate recorders of all experience levels\, our recording days are not taught or guided sessions. (Check out our webinars/workshops here). \nEvents will be subject to cancellation if there is severe weather forecast. \nBooking essential: Further details regarding meeting place etc. will be circulated before the day.
URL:https://www.northwestinvertebrates.org.uk/event/freshfield/
CATEGORIES:Recording Days
ATTACH;FMTTYPE=image/jpeg:https://www.northwestinvertebrates.org.uk/wp-content/uploads/2026/03/20240904_151912-scaled.jpg
END:VEVENT
BEGIN:VEVENT
DTSTART;TZID=Europe/London:20260731T100000
DTEND;TZID=Europe/London:20260731T160000
DTSTAMP:20260426T011056
CREATED:20260304T151138Z
LAST-MODIFIED:20260304T151325Z
UID:25018-1785492000-1785513600@www.northwestinvertebrates.org.uk
SUMMARY:Carr House Green Common Invertebrate Recording Day
DESCRIPTION:Book here. \nCarr House Green Common\, Inskip is primarily a lowland wet grassland meadow. It features marshy grassland with wet depressions and drainage ditches\, creating a mosaic of wetland habitats that support characteristic flora and fauna. \nParking and toilet facilities will be available at the YIP centre\, Inskip. \nNearest Train Stations: Preston and Poulton-Le-Fylde – the 74 bus goes from near the stations and stops near the site on Preston Road\, Inskip\n \n​Please be aware that whilst we welcome invertebrate recorders of all experience levels\, our recording days are not taught or guided sessions. (Check out our webinars/workshops here). \nEvents will be subject to cancellation if there is severe weather forecast. \nBooking essential: Further details regarding meeting place etc. will be circulated before the day.
URL:https://www.northwestinvertebrates.org.uk/event/carrhousegreen/
CATEGORIES:Recording Days
ATTACH;FMTTYPE=image/jpeg:https://www.northwestinvertebrates.org.uk/wp-content/uploads/2026/03/20250330_133657-1-scaled.jpg
END:VEVENT
END:VCALENDAR