BEGIN:VCALENDAR
VERSION:2.0
PRODID:-//North West Invertebrates - ECPv6.15.12//NONSGML v1.0//EN
CALSCALE:GREGORIAN
METHOD:PUBLISH
X-WR-CALNAME:North West Invertebrates
X-ORIGINAL-URL:https://www.northwestinvertebrates.org.uk
X-WR-CALDESC:Events for North West Invertebrates
REFRESH-INTERVAL;VALUE=DURATION:PT1H
X-Robots-Tag:noindex
X-PUBLISHED-TTL:PT1H
BEGIN:VTIMEZONE
TZID:Europe/London
BEGIN:DAYLIGHT
TZOFFSETFROM:+0000
TZOFFSETTO:+0100
TZNAME:BST
DTSTART:20250330T010000
END:DAYLIGHT
BEGIN:STANDARD
TZOFFSETFROM:+0100
TZOFFSETTO:+0000
TZNAME:GMT
DTSTART:20251026T010000
END:STANDARD
BEGIN:DAYLIGHT
TZOFFSETFROM:+0000
TZOFFSETTO:+0100
TZNAME:BST
DTSTART:20260329T010000
END:DAYLIGHT
BEGIN:STANDARD
TZOFFSETFROM:+0100
TZOFFSETTO:+0000
TZNAME:GMT
DTSTART:20261025T010000
END:STANDARD
BEGIN:DAYLIGHT
TZOFFSETFROM:+0000
TZOFFSETTO:+0100
TZNAME:BST
DTSTART:20270328T010000
END:DAYLIGHT
BEGIN:STANDARD
TZOFFSETFROM:+0100
TZOFFSETTO:+0000
TZNAME:GMT
DTSTART:20271031T010000
END:STANDARD
END:VTIMEZONE
BEGIN:VEVENT
DTSTART;TZID=Europe/London:20261106T103000
DTEND;TZID=Europe/London:20261106T160000
DTSTAMP:20260422T154416
CREATED:20260218T131132Z
LAST-MODIFIED:20260223T165119Z
UID:24880-1793961000-1793980800@www.northwestinvertebrates.org.uk
SUMMARY:Introduction to ‘Proctos’ Parasitoid Wasps Workshop
DESCRIPTION:Book here \nIntroduction to ‘Proctos’: Parasitoid wasps of the superfamilies Diaprioidea\, Platygastroidea\, Proctotrupoidea and Ceraphronoidea  \nSmall parasitoid wasps are among the most diverse and numerous insects in terrestrial ecosystems where they exploit other insects and spiders as food for their young.  \nThis one-day workshop will be a practical based introduction to parasitoid wasps of the superfamilies Diaprioidea\, Platygastroidea\, Proctotrupoidea and Ceraphronoidea. Participants will develop an understanding of collection\, preservation\, and study techniques\, learn to identify families and subfamilies\, and become familiar with key resources for further learning. \nMaterial from the museum’s collection will be available for study and participants are encouraged to bring their own specimens.  \nOur tutor David Notton is an expert in diapriid wasps and was formerly Senior Curator of Hymenoptera at the Natural History Museum London.  \nWorkshop level – Intermediate 
URL:https://www.northwestinvertebrates.org.uk/event/proctos/
LOCATION:World Museum\, William Brown Street\, Liverpool\, England\, L3 8EN\, United Kingdom
CATEGORIES:Workshops
ATTACH;FMTTYPE=image/png:https://www.northwestinvertebrates.org.uk/wp-content/uploads/2026/02/Trichopria-scaled.png
END:VEVENT
END:VCALENDAR