BEGIN:VCALENDAR
VERSION:2.0
PRODID:-//North West Invertebrates - ECPv6.15.12//NONSGML v1.0//EN
CALSCALE:GREGORIAN
METHOD:PUBLISH
X-WR-CALNAME:North West Invertebrates
X-ORIGINAL-URL:https://www.northwestinvertebrates.org.uk
X-WR-CALDESC:Events for North West Invertebrates
REFRESH-INTERVAL;VALUE=DURATION:PT1H
X-Robots-Tag:noindex
X-PUBLISHED-TTL:PT1H
BEGIN:VTIMEZONE
TZID:Europe/London
BEGIN:DAYLIGHT
TZOFFSETFROM:+0000
TZOFFSETTO:+0100
TZNAME:BST
DTSTART:20240331T010000
END:DAYLIGHT
BEGIN:STANDARD
TZOFFSETFROM:+0100
TZOFFSETTO:+0000
TZNAME:GMT
DTSTART:20241027T010000
END:STANDARD
BEGIN:DAYLIGHT
TZOFFSETFROM:+0000
TZOFFSETTO:+0100
TZNAME:BST
DTSTART:20250330T010000
END:DAYLIGHT
BEGIN:STANDARD
TZOFFSETFROM:+0100
TZOFFSETTO:+0000
TZNAME:GMT
DTSTART:20251026T010000
END:STANDARD
BEGIN:DAYLIGHT
TZOFFSETFROM:+0000
TZOFFSETTO:+0100
TZNAME:BST
DTSTART:20260329T010000
END:DAYLIGHT
BEGIN:STANDARD
TZOFFSETFROM:+0100
TZOFFSETTO:+0000
TZNAME:GMT
DTSTART:20261025T010000
END:STANDARD
END:VTIMEZONE
BEGIN:VEVENT
DTSTART;TZID=Europe/London:20250315T133000
DTEND;TZID=Europe/London:20250315T160000
DTSTAMP:20260419T200946
CREATED:20250207T121423Z
LAST-MODIFIED:20250207T121423Z
UID:22725-1742045400-1742054400@www.northwestinvertebrates.org.uk
SUMMARY:Lancashire & Cheshire Entomological Society (LCES) Spring Meeting 2025
DESCRIPTION:Book Here \nThis is a free bi-annual meeting open to all – you do not need to be a society member \nWe will be hearing about: \n\nCryptic Creatures of the Creuddyn project from Sion Dafis (Great Orme Country Park)\nFossil insect colour research from Dr Nidia Alvarez Armada (Research Fellow\, Manchester University)\nManchester Museum entomology collections from Diana Arzuza Buelvas (Curator of Entomology\, Manchester Museum)\n\nWe will also be holding our usual section for short contributions on any entomological topic e.g. recording highlights\, survey work\, research\, or promoting events / projects (usually up to 5 minutes). Slots are limited. If you’d like to contribute\, please email gary.hedges@liverpoolmuseums.org.uk\nPlease meet in World Museum foyer at 13:15. Tea\, coffee\, and biscuits will be provided. \nWhy not make a day of it?……..there will be access to the collections\, microscopes\, library\, and imaging equipment from 9am. Please let Gary know if you’d like early access.
URL:https://www.northwestinvertebrates.org.uk/event/lancashire-cheshire-entomological-society-lces-autumn-meeting-2024-2/
LOCATION:World Museum\, William Brown Street\, Liverpool\, England\, L3 8EN\, United Kingdom
CATEGORIES:Other Events In The Region
ATTACH;FMTTYPE=image/png:https://www.northwestinvertebrates.org.uk/wp-content/uploads/2025/02/LCES-2025-Spring-Meeting-Poster.png
END:VEVENT
END:VCALENDAR