BEGIN:VCALENDAR
VERSION:2.0
PRODID:-//North West Invertebrates - ECPv6.15.12//NONSGML v1.0//EN
CALSCALE:GREGORIAN
METHOD:PUBLISH
X-ORIGINAL-URL:https://www.northwestinvertebrates.org.uk
X-WR-CALDESC:Events for North West Invertebrates
REFRESH-INTERVAL;VALUE=DURATION:PT1H
X-Robots-Tag:noindex
X-PUBLISHED-TTL:PT1H
BEGIN:VTIMEZONE
TZID:Europe/London
BEGIN:DAYLIGHT
TZOFFSETFROM:+0000
TZOFFSETTO:+0100
TZNAME:BST
DTSTART:20230326T010000
END:DAYLIGHT
BEGIN:STANDARD
TZOFFSETFROM:+0100
TZOFFSETTO:+0000
TZNAME:GMT
DTSTART:20231029T010000
END:STANDARD
BEGIN:DAYLIGHT
TZOFFSETFROM:+0000
TZOFFSETTO:+0100
TZNAME:BST
DTSTART:20240331T010000
END:DAYLIGHT
BEGIN:STANDARD
TZOFFSETFROM:+0100
TZOFFSETTO:+0000
TZNAME:GMT
DTSTART:20241027T010000
END:STANDARD
BEGIN:DAYLIGHT
TZOFFSETFROM:+0000
TZOFFSETTO:+0100
TZNAME:BST
DTSTART:20250330T010000
END:DAYLIGHT
BEGIN:STANDARD
TZOFFSETFROM:+0100
TZOFFSETTO:+0000
TZNAME:GMT
DTSTART:20251026T010000
END:STANDARD
END:VTIMEZONE
BEGIN:VEVENT
DTSTART;TZID=Europe/London:20241019T124500
DTEND;TZID=Europe/London:20241019T160000
DTSTAMP:20260419T133932
CREATED:20240924T162207Z
LAST-MODIFIED:20240924T162315Z
UID:22021-1729341900-1729353600@www.northwestinvertebrates.org.uk
SUMMARY:Lancashire & Cheshire Entomological Society (LCES) Autumn Meeting 2024
DESCRIPTION:Book Here \nWe will be welcoming Dr Julia Simons and Dr Thom Dallimore for 30 minutes talks on recent High Brown Fritillary and Mosquito research respectively. \nWe will also have a session for short contributions from the membership and visitors to share items on any entomological topic e.g. highlights from this season (usually up to 5 minutes). If you’d like to contribute\, please contact gary.hedges@liverpoolmuseums.org.uk in advance of the meeting. \nThe AGM will be 13:00 – 13:30 – all welcome\n \nPlease meet in World Museum foyer at 12:45 (for AGM) and 13:25 (if not attending AGM)
URL:https://www.northwestinvertebrates.org.uk/event/lancashire-cheshire-entomological-society-lces-autumn-meeting-2024/
LOCATION:World Museum\, William Brown Street\, Liverpool\, England\, L3 8EN\, United Kingdom
CATEGORIES:Other Events In The Region
ATTACH;FMTTYPE=image/jpeg:https://www.northwestinvertebrates.org.uk/wp-content/uploads/2024/09/LCES_Autumn_2024_poster.jpg
END:VEVENT
END:VCALENDAR