BEGIN:VCALENDAR
VERSION:2.0
PRODID:-//North West Invertebrates - ECPv6.15.12//NONSGML v1.0//EN
CALSCALE:GREGORIAN
METHOD:PUBLISH
X-WR-CALNAME:North West Invertebrates
X-ORIGINAL-URL:https://www.northwestinvertebrates.org.uk
X-WR-CALDESC:Events for North West Invertebrates
REFRESH-INTERVAL;VALUE=DURATION:PT1H
X-Robots-Tag:noindex
X-PUBLISHED-TTL:PT1H
BEGIN:VTIMEZONE
TZID:Europe/London
BEGIN:DAYLIGHT
TZOFFSETFROM:+0000
TZOFFSETTO:+0100
TZNAME:BST
DTSTART:20250330T010000
END:DAYLIGHT
BEGIN:STANDARD
TZOFFSETFROM:+0100
TZOFFSETTO:+0000
TZNAME:GMT
DTSTART:20251026T010000
END:STANDARD
BEGIN:DAYLIGHT
TZOFFSETFROM:+0000
TZOFFSETTO:+0100
TZNAME:BST
DTSTART:20260329T010000
END:DAYLIGHT
BEGIN:STANDARD
TZOFFSETFROM:+0100
TZOFFSETTO:+0000
TZNAME:GMT
DTSTART:20261025T010000
END:STANDARD
BEGIN:DAYLIGHT
TZOFFSETFROM:+0000
TZOFFSETTO:+0100
TZNAME:BST
DTSTART:20270328T010000
END:DAYLIGHT
BEGIN:STANDARD
TZOFFSETFROM:+0100
TZOFFSETTO:+0000
TZNAME:GMT
DTSTART:20271031T010000
END:STANDARD
END:VTIMEZONE
BEGIN:VEVENT
DTSTART;TZID=Europe/London:20260821T100000
DTEND;TZID=Europe/London:20260821T160000
DTSTAMP:20260422T203412
CREATED:20260402T160417Z
LAST-MODIFIED:20260402T160417Z
UID:25060-1787306400-1787328000@www.northwestinvertebrates.org.uk
SUMMARY:Errwood & Fernilee Reservoirs Invertebrate Recording Day
DESCRIPTION:Book here \nJoin us for a joint recording day with Sorby Invertebrate Group and Cheshire Bee Group at Errwood and Fernilee Reservoirs in the Goyt Valley area. The site consists of mostly acid grassland/moorland with a mosaic of broadleaved woodland and gullies. \nPlease note there are no toilets on site. \nParking: at The Street Car Park. \nPlease be aware that whilst we welcome invertebrate recorders of all experience levels\, our recording days are not taught or guided sessions. (Check out our webinars/workshops here). \nEvents will be subject to cancellation if there is severe weather forecast. \nBooking essential: Further details regarding meeting place etc. will be circulated before the day.
URL:https://www.northwestinvertebrates.org.uk/event/errwood/
CATEGORIES:Recording Days
ATTACH;FMTTYPE=image/jpeg:https://www.northwestinvertebrates.org.uk/wp-content/uploads/2026/04/20250712_100312-scaled.jpg
END:VEVENT
END:VCALENDAR