BEGIN:VCALENDAR
VERSION:2.0
PRODID:-//North West Invertebrates - ECPv6.15.12//NONSGML v1.0//EN
CALSCALE:GREGORIAN
METHOD:PUBLISH
X-WR-CALNAME:North West Invertebrates
X-ORIGINAL-URL:https://www.northwestinvertebrates.org.uk
X-WR-CALDESC:Events for North West Invertebrates
REFRESH-INTERVAL;VALUE=DURATION:PT1H
X-Robots-Tag:noindex
X-PUBLISHED-TTL:PT1H
BEGIN:VTIMEZONE
TZID:Europe/London
BEGIN:DAYLIGHT
TZOFFSETFROM:+0000
TZOFFSETTO:+0100
TZNAME:BST
DTSTART:20250330T010000
END:DAYLIGHT
BEGIN:STANDARD
TZOFFSETFROM:+0100
TZOFFSETTO:+0000
TZNAME:GMT
DTSTART:20251026T010000
END:STANDARD
BEGIN:DAYLIGHT
TZOFFSETFROM:+0000
TZOFFSETTO:+0100
TZNAME:BST
DTSTART:20260329T010000
END:DAYLIGHT
BEGIN:STANDARD
TZOFFSETFROM:+0100
TZOFFSETTO:+0000
TZNAME:GMT
DTSTART:20261025T010000
END:STANDARD
BEGIN:DAYLIGHT
TZOFFSETFROM:+0000
TZOFFSETTO:+0100
TZNAME:BST
DTSTART:20270328T010000
END:DAYLIGHT
BEGIN:STANDARD
TZOFFSETFROM:+0100
TZOFFSETTO:+0000
TZNAME:GMT
DTSTART:20271031T010000
END:STANDARD
END:VTIMEZONE
BEGIN:VEVENT
DTSTART;TZID=Europe/London:20260814T100000
DTEND;TZID=Europe/London:20260814T160000
DTSTAMP:20260422T203429
CREATED:20260304T144951Z
LAST-MODIFIED:20260304T144951Z
UID:25003-1786701600-1786723200@www.northwestinvertebrates.org.uk
SUMMARY:Crag Bank Invertebrate Recording Day Visit 2
DESCRIPTION:Book here. \nCrag Bank Nature Reserve is 3.7 ha. SSSI comprising calcareous boulder-clay ridges and extensive wet areas of calcareous peaty soil with fen-like vegetation\, ditches and a muddy stream. Over 170 species of flowering plant have been recorded in the wet areas\, calcareous grassland\, scrub and a small wood. A number of plants that are very rare in Lancashire (eg. Pedicularis palustris) occur. Access to the site has been restricted until summer 2025. \nCar park and toilet facilities available. \nNearest train station: Carnforth – 20 mins walk to meeting spot. \nNe​arest bus stop: Crag Bank bus stop on Lancaster Road – 8 min walk to meeting spot – services to/from Lancaster\, Carnforth\, Keswick\, Heysham\, Morecombe etc. \nPlease be aware that whilst we welcome invertebrate recorders of all experience levels\, our recording days are not taught or guided sessions. (Check out our webinars/workshops here). \nEvents will be subject to cancellation if there is severe weather forecast. \nBooking essential: Further details regarding meeting place etc. will be circulated before the day.
URL:https://www.northwestinvertebrates.org.uk/event/cragbank2/
CATEGORIES:Recording Days
ATTACH;FMTTYPE=image/jpeg:https://www.northwestinvertebrates.org.uk/wp-content/uploads/2026/03/crag-bank.jpg
END:VEVENT
END:VCALENDAR