BEGIN:VCALENDAR
VERSION:2.0
PRODID:-//North West Invertebrates - ECPv6.15.12//NONSGML v1.0//EN
CALSCALE:GREGORIAN
METHOD:PUBLISH
X-ORIGINAL-URL:https://www.northwestinvertebrates.org.uk
X-WR-CALDESC:Events for North West Invertebrates
REFRESH-INTERVAL;VALUE=DURATION:PT1H
X-Robots-Tag:noindex
X-PUBLISHED-TTL:PT1H
BEGIN:VTIMEZONE
TZID:Europe/London
BEGIN:DAYLIGHT
TZOFFSETFROM:+0000
TZOFFSETTO:+0100
TZNAME:BST
DTSTART:20230326T010000
END:DAYLIGHT
BEGIN:STANDARD
TZOFFSETFROM:+0100
TZOFFSETTO:+0000
TZNAME:GMT
DTSTART:20231029T010000
END:STANDARD
BEGIN:DAYLIGHT
TZOFFSETFROM:+0000
TZOFFSETTO:+0100
TZNAME:BST
DTSTART:20240331T010000
END:DAYLIGHT
BEGIN:STANDARD
TZOFFSETFROM:+0100
TZOFFSETTO:+0000
TZNAME:GMT
DTSTART:20241027T010000
END:STANDARD
BEGIN:DAYLIGHT
TZOFFSETFROM:+0000
TZOFFSETTO:+0100
TZNAME:BST
DTSTART:20250330T010000
END:DAYLIGHT
BEGIN:STANDARD
TZOFFSETFROM:+0100
TZOFFSETTO:+0000
TZNAME:GMT
DTSTART:20251026T010000
END:STANDARD
END:VTIMEZONE
BEGIN:VEVENT
DTSTART;TZID=Europe/London:20240803T100000
DTEND;TZID=Europe/London:20240803T160000
DTSTAMP:20260423T221201
CREATED:20240329T120818Z
LAST-MODIFIED:20240329T120818Z
UID:20705-1722679200-1722700800@www.northwestinvertebrates.org.uk
SUMMARY:Woolston Eyes Invertebrate Recording Day
DESCRIPTION:Book here. \n​This is a joint event with the Coleopterists Society of Britain and Ireland. \nWoolston Eyes Nature Reserve is a SSSI (Site of Special Scientific Interest) 4 km east of Warrington Town Centre\, designated for it’s breeding bird assemblage of lowland open waters and their margins. It is a mosaic of four separate beds\, deposit grounds for dredging from the Manchester Ship Canal\, of approximately 400 hectares of freshwater pools\, reedbeds\, willow scrub and rough vegetation sandwiched between the River Mersey on its north boundary and the Manchester Ship Canal on its south boundary. Only Beds No.3 and No.4 are open to visitors and visiting is by permit only and requires an access key. \nWe have special access to the site without permit on the recording day. Invertebrate habitat includes flower-rich meadow\, damp grassland\, willow scrub\, rank vegetaiton\, and bare sand. \nAn invertebrate survey of bed No. 3 in 2022 by Pete Boardman produced a beetle previously unrecorded in Britain – Glischrochilus grandis. \nThere are toilet facilities and bird hides as shelter on site. \nPlease be aware that whilst we welcome invertebrate recorders of all experience levels\, our recording days are not taught or guided sessions. (Check out our webinars/workshops here). \nEvents will be subject to cancellation if there is severe weather forecast. \nBooking essential: Further details regarding meeting place etc. will be circulated before the day.
URL:https://www.northwestinvertebrates.org.uk/event/woolston/
CATEGORIES:Recording Days
ATTACH;FMTTYPE=image/jpeg:https://www.northwestinvertebrates.org.uk/wp-content/uploads/2024/03/woolston.jpg
END:VEVENT
END:VCALENDAR