BEGIN:VCALENDAR
VERSION:2.0
PRODID:-//North West Invertebrates - ECPv6.15.12//NONSGML v1.0//EN
CALSCALE:GREGORIAN
METHOD:PUBLISH
X-WR-CALNAME:North West Invertebrates
X-ORIGINAL-URL:https://www.northwestinvertebrates.org.uk
X-WR-CALDESC:Events for North West Invertebrates
REFRESH-INTERVAL;VALUE=DURATION:PT1H
X-Robots-Tag:noindex
X-PUBLISHED-TTL:PT1H
BEGIN:VTIMEZONE
TZID:Europe/London
BEGIN:DAYLIGHT
TZOFFSETFROM:+0000
TZOFFSETTO:+0100
TZNAME:BST
DTSTART:20250330T010000
END:DAYLIGHT
BEGIN:STANDARD
TZOFFSETFROM:+0100
TZOFFSETTO:+0000
TZNAME:GMT
DTSTART:20251026T010000
END:STANDARD
BEGIN:DAYLIGHT
TZOFFSETFROM:+0000
TZOFFSETTO:+0100
TZNAME:BST
DTSTART:20260329T010000
END:DAYLIGHT
BEGIN:STANDARD
TZOFFSETFROM:+0100
TZOFFSETTO:+0000
TZNAME:GMT
DTSTART:20261025T010000
END:STANDARD
BEGIN:DAYLIGHT
TZOFFSETFROM:+0000
TZOFFSETTO:+0100
TZNAME:BST
DTSTART:20270328T010000
END:DAYLIGHT
BEGIN:STANDARD
TZOFFSETFROM:+0100
TZOFFSETTO:+0000
TZNAME:GMT
DTSTART:20271031T010000
END:STANDARD
END:VTIMEZONE
BEGIN:VEVENT
DTSTART;TZID=Europe/London:20260605T100000
DTEND;TZID=Europe/London:20260605T160000
DTSTAMP:20260422T150204
CREATED:20260304T144550Z
LAST-MODIFIED:20260304T144550Z
UID:24999-1780653600-1780675200@www.northwestinvertebrates.org.uk
SUMMARY:Crag Bank Invertebrate Recording Day Visit 1
DESCRIPTION:Book here. \nCrag Bank Nature Reserve is 3.7 ha. SSSI comprising calcareous boulder-clay ridges and extensive wet areas of calcareous peaty soil with fen-like vegetation\, ditches and a muddy stream. Over 170 species of flowering plant have been recorded in the wet areas\, calcareous grassland\, scrub and a small wood. A number of plants that are very rare in Lancashire (eg. Pedicularis palustris) occur. Access to the site has been restricted until summer 2025. \nCar park and toilet facilities available. \nNearest train station: Carnforth – 20 mins walk to meeting spot. \nNe​arest bus stop: Crag Bank bus stop on Lancaster Road – 8 min walk to meeting spot – services to/from Lancaster\, Carnforth\, Keswick\, Heysham\, Morecombe etc. \nPlease be aware that whilst we welcome invertebrate recorders of all experience levels\, our recording days are not taught or guided sessions. (Check out our webinars/workshops here). \nEvents will be subject to cancellation if there is severe weather forecast. \nBooking essential: Further details regarding meeting place etc. will be circulated before the day.
URL:https://www.northwestinvertebrates.org.uk/event/cragbank1/
CATEGORIES:Recording Days
ATTACH;FMTTYPE=image/jpeg:https://www.northwestinvertebrates.org.uk/wp-content/uploads/2026/03/crag-bank.jpg
END:VEVENT
BEGIN:VEVENT
DTSTART;TZID=Europe/London:20260626T100000
DTEND;TZID=Europe/London:20260626T160000
DTSTAMP:20260422T150204
CREATED:20260304T145529Z
LAST-MODIFIED:20260304T145529Z
UID:25005-1782468000-1782489600@www.northwestinvertebrates.org.uk
SUMMARY:Heswall Dales Invertebrate Recording Day
DESCRIPTION:Book here. \nHeswall Dales is an area of some 72 acres of lowland heath situated close to Heswall on the Wirral. It is a Site of Special Scientific Interest and a Local Nature Reserve. \nOn-street parking and toilet facilities available. 20 min walk from Heswall Bus Station – services to/from Liverpool and Chester and local areas. \nNearest bus stops: on Telegraph/Thurstaston Road – 8 min walk to meeting spot. \n​Please be aware that whilst we welcome invertebrate recorders of all experience levels\, our recording days are not taught or guided sessions. (Check out our webinars/workshops here). \nEvents will be subject to cancellation if there is severe weather forecast. \nBooking essential: Further details regarding meeting place etc. will be circulated before the day.
URL:https://www.northwestinvertebrates.org.uk/event/heswalldales/
CATEGORIES:Recording Days
ATTACH;FMTTYPE=image/jpeg:https://www.northwestinvertebrates.org.uk/wp-content/uploads/2026/03/20260124_120410-1-scaled.jpg
END:VEVENT
END:VCALENDAR