BEGIN:VCALENDAR
VERSION:2.0
PRODID:-//North West Invertebrates - ECPv6.15.12//NONSGML v1.0//EN
CALSCALE:GREGORIAN
METHOD:PUBLISH
X-WR-CALNAME:North West Invertebrates
X-ORIGINAL-URL:https://www.northwestinvertebrates.org.uk
X-WR-CALDESC:Events for North West Invertebrates
REFRESH-INTERVAL;VALUE=DURATION:PT1H
X-Robots-Tag:noindex
X-PUBLISHED-TTL:PT1H
BEGIN:VTIMEZONE
TZID:Europe/London
BEGIN:DAYLIGHT
TZOFFSETFROM:+0000
TZOFFSETTO:+0100
TZNAME:BST
DTSTART:20240331T010000
END:DAYLIGHT
BEGIN:STANDARD
TZOFFSETFROM:+0100
TZOFFSETTO:+0000
TZNAME:GMT
DTSTART:20241027T010000
END:STANDARD
BEGIN:DAYLIGHT
TZOFFSETFROM:+0000
TZOFFSETTO:+0100
TZNAME:BST
DTSTART:20250330T010000
END:DAYLIGHT
BEGIN:STANDARD
TZOFFSETFROM:+0100
TZOFFSETTO:+0000
TZNAME:GMT
DTSTART:20251026T010000
END:STANDARD
BEGIN:DAYLIGHT
TZOFFSETFROM:+0000
TZOFFSETTO:+0100
TZNAME:BST
DTSTART:20260329T010000
END:DAYLIGHT
BEGIN:STANDARD
TZOFFSETFROM:+0100
TZOFFSETTO:+0000
TZNAME:GMT
DTSTART:20261025T010000
END:STANDARD
END:VTIMEZONE
BEGIN:VEVENT
DTSTART;TZID=Europe/London:20250704T100000
DTEND;TZID=Europe/London:20250704T160000
DTSTAMP:20260423T032242
CREATED:20240520T160435Z
LAST-MODIFIED:20250315T094430Z
UID:21121-1751623200-1751644800@www.northwestinvertebrates.org.uk
SUMMARY:Peel Park and The Coppice Invertebrate Recording Day
DESCRIPTION:Peel Park is the largest Local Nature Reserve in Lancashire and currently the subject of a Prospects Foundation project to protect and improve pollinator populations and their habitats. \nOver 20 broad habitat have been recorded\, including heathland\, broadleaved\, coniferous and mixed plantation\, semi-natural woodland\, dense and scattered scrub\, acidic\, neutral and marshy grasslands\, flushes\, standing and running water\, heathland\, hedges\, ditches and bare ground. The number of flowering plants and ferns recorded on the site is over 300\, of which more than 250 are native to Britain. This is in addition to over 120 mosses & liverworts. However\, the site doesn’t appear to have been the subject of extensive invertebrate recording. \nThere are no facilities or shelter at this site. However\, Accrington Town centre is within 20 minutes walk. \nPlease be aware that whilst we welcome invertebrate recorders of all experience levels\, our recording days are not taught or guided sessions. (Check out our webinars/workshops here). \nEvents will be subject to cancellation if there is severe weather forecast. \nBooking essential: Further details regarding meeting place etc. will be circulated before the day.
URL:https://www.northwestinvertebrates.org.uk/event/peelpark/
LOCATION:Peel Park and the Coppice
CATEGORIES:Recording Days
ATTACH;FMTTYPE=image/png:https://www.northwestinvertebrates.org.uk/wp-content/uploads/2024/05/2024-03-05-PPC-from-Hameldon.png
END:VEVENT
BEGIN:VEVENT
DTSTART;TZID=Europe/London:20250718T100000
DTEND;TZID=Europe/London:20250718T160000
DTSTAMP:20260423T032242
CREATED:20250315T094402Z
LAST-MODIFIED:20250315T094402Z
UID:22990-1752832800-1752854400@www.northwestinvertebrates.org.uk
SUMMARY:Prenton Dell Claypit Invertebrate Recording Day
DESCRIPTION:Prenton Dell Claypit on the Wirral consists of species-rich meadows\, ponds\, ditches\, a small area of ancient woodland and marsh. The site is owned by National Grid who lease it to a local community group who manage the area. The site has recently undergone significant habitat management and restoration and very little invertebrate recording has been done here. There are toilet facilities and car parking on site. \n​Please be aware that whilst we welcome invertebrate recorders of all experience levels\, our recording days are not taught or guided sessions. (Check out our webinars/workshops here). \nEvents will be subject to cancellation if there is severe weather forecast. \nBooking essential: Further details regarding meeting place etc. will be circulated before the day.
URL:https://www.northwestinvertebrates.org.uk/event/prentondell/
CATEGORIES:Recording Days
ATTACH;FMTTYPE=image/jpeg:https://www.northwestinvertebrates.org.uk/wp-content/uploads/2025/03/20250305_142738-1-scaled.jpg
END:VEVENT
BEGIN:VEVENT
DTSTART;TZID=Europe/London:20250725T100000
DTEND;TZID=Europe/London:20250725T160000
DTSTAMP:20260423T032242
CREATED:20250326T170834Z
LAST-MODIFIED:20250610T101041Z
UID:23073-1753437600-1753459200@www.northwestinvertebrates.org.uk
SUMMARY:Bagmere and Brereton Heath Invertebrate Recording Day
DESCRIPTION:Brereton Heath Local Nature Reserve is a 50 acre mosaic of mixed woodland\, a lake\, grassland\, including some semi-improved\, marsh and a few acres of heathland that are closed to the public. We will focus our morning on the heathland and meadow areas of the site\, but there is an opportunity to record in the other habitats on offer. \nAfter lunch\, we’ll walk as a group over to the Cheshire Wildlife Trust managed sections of Bagmere SSSI\, where we’ll be covering lowland fen\, grassland\, and wet woodland habitats. Bagmere was the last known site for Small Pearl-bordered Fritillary in Cheshire\, though thought to have gone extinct a decade ago. Bagmere is closed to the public. \nBagmere features difficult and hazardous terrain\, and you should be experienced in wetland habitats to record on this site. \n​Please be aware that whilst we welcome invertebrate recorders of all experience levels\, our recording days are not taught or guided sessions. (Check out our webinars/workshops here). \nThere are toilet facilities at Brereton Heath Local Nature Reserve but none at Bagmere (we will be walking between the two). \nEvents will be subject to cancellation if there is severe weather forecast. \nBooking essential: Further details regarding meeting place etc. will be circulated before the day.
URL:https://www.northwestinvertebrates.org.uk/event/bagmere-2/
CATEGORIES:Recording Days
ATTACH;FMTTYPE=image/png:https://www.northwestinvertebrates.org.uk/wp-content/uploads/2025/03/bagmere.png
END:VEVENT
END:VCALENDAR