BEGIN:VCALENDAR
VERSION:2.0
PRODID:-//North West Invertebrates - ECPv6.15.12//NONSGML v1.0//EN
CALSCALE:GREGORIAN
METHOD:PUBLISH
X-ORIGINAL-URL:https://www.northwestinvertebrates.org.uk
X-WR-CALDESC:Events for North West Invertebrates
REFRESH-INTERVAL;VALUE=DURATION:PT1H
X-Robots-Tag:noindex
X-PUBLISHED-TTL:PT1H
BEGIN:VTIMEZONE
TZID:Europe/London
BEGIN:DAYLIGHT
TZOFFSETFROM:+0000
TZOFFSETTO:+0100
TZNAME:BST
DTSTART:20230326T010000
END:DAYLIGHT
BEGIN:STANDARD
TZOFFSETFROM:+0100
TZOFFSETTO:+0000
TZNAME:GMT
DTSTART:20231029T010000
END:STANDARD
BEGIN:DAYLIGHT
TZOFFSETFROM:+0000
TZOFFSETTO:+0100
TZNAME:BST
DTSTART:20240331T010000
END:DAYLIGHT
BEGIN:STANDARD
TZOFFSETFROM:+0100
TZOFFSETTO:+0000
TZNAME:GMT
DTSTART:20241027T010000
END:STANDARD
BEGIN:DAYLIGHT
TZOFFSETFROM:+0000
TZOFFSETTO:+0100
TZNAME:BST
DTSTART:20250330T010000
END:DAYLIGHT
BEGIN:STANDARD
TZOFFSETFROM:+0100
TZOFFSETTO:+0000
TZNAME:GMT
DTSTART:20251026T010000
END:STANDARD
END:VTIMEZONE
BEGIN:VEVENT
DTSTART;TZID=Europe/London:20240703T100000
DTEND;TZID=Europe/London:20240703T160000
DTSTAMP:20260423T220848
CREATED:20240329T120230Z
LAST-MODIFIED:20240329T120230Z
UID:20699-1720000800-1720022400@www.northwestinvertebrates.org.uk
SUMMARY:Rivacre Valley Country Park Invertebrate Recording Day
DESCRIPTION:Book here. \nRivacre Valley is a 395 acre urban Local Nature Reserve situated on the edge of the industrial town of Ellesmere Port. The site is a mixture of ancient woodland and wildflower meadows with the Rivacre brook\, streams and ditches meandering through the park. \nPlease be aware that whilst we welcome invertebrate recorders of all experience levels\, our recording days are not taught or guided sessions. (Check out our webinars/workshops here). \nEvents will be subject to cancellation if there is severe weather forecast. \nBooking essential: Further details regarding meeting place etc. will be circulated before the day.
URL:https://www.northwestinvertebrates.org.uk/event/rivacre/
CATEGORIES:Recording Days
ATTACH;FMTTYPE=image/jpeg:https://www.northwestinvertebrates.org.uk/wp-content/uploads/2024/03/riv.jpg
END:VEVENT
BEGIN:VEVENT
DTSTART;TZID=Europe/London:20240712T100000
DTEND;TZID=Europe/London:20240712T160000
DTSTAMP:20260423T220848
CREATED:20240329T120442Z
LAST-MODIFIED:20240329T120442Z
UID:20702-1720778400-1720800000@www.northwestinvertebrates.org.uk
SUMMARY:Docker Moor Invertebrate Recording Day
DESCRIPTION:Book here. \n​Docker Moor is a private moorland / plantation complex in North East Lancs\, managed for forestry and as a shooting estate. Mothing trapping has been conducted on the site for several years\, and many species recorded in abundance are typical of heather moorland. There is also enough Bilberry to support colonies of scarc macro-moths Manchester Treble-bar and Bilberry Pug. \nWe have access to toilets and shelter at this site. \nPlease be aware that whilst we welcome invertebrate recorders of all experience levels\, our recording days are not taught or guided sessions. (Check out our webinars/workshops here). \nEvents will be subject to cancellation if there is severe weather forecast. \nBooking essential: Further details regarding meeting place etc. will be circulated before the day.
URL:https://www.northwestinvertebrates.org.uk/event/dockermoor/
CATEGORIES:Recording Days
ATTACH;FMTTYPE=image/jpeg:https://www.northwestinvertebrates.org.uk/wp-content/uploads/2024/03/docker.jpg
END:VEVENT
BEGIN:VEVENT
DTSTART;TZID=Europe/London:20240731T100000
DTEND;TZID=Europe/London:20240731T160000
DTSTAMP:20260423T220848
CREATED:20240329T114850Z
LAST-MODIFIED:20240611T154325Z
UID:20685-1722420000-1722441600@www.northwestinvertebrates.org.uk
SUMMARY:Teggs Nose Invertebrate Recording Day
DESCRIPTION:Book here. \nThe landscape and wildlife of Tegg’s Nose is varied with both meadow and moorland conditions on the rocky slopes\, and woodland at the base of the summit. More detailed information can be found in the site leaflet here. This will be a joint recording day with Sorby Natural History Society and Cheshire Bee Group. \nPlease be aware that whilst we welcome invertebrate recorders of all experience levels\, our recording days are not taught or guided sessions. (Check out our webinars/workshops here). \nEvents will be subject to cancellation if there is severe weather forecast. \nBooking essential: Further details regarding meeting place etc. will be circulated before the day.
URL:https://www.northwestinvertebrates.org.uk/event/teggsnose/
CATEGORIES:Recording Days
ATTACH;FMTTYPE=image/jpeg:https://www.northwestinvertebrates.org.uk/wp-content/uploads/2024/03/20230808_162000-scaled.jpg
END:VEVENT
END:VCALENDAR