BEGIN:VCALENDAR
VERSION:2.0
PRODID:-//North West Invertebrates - ECPv6.15.12//NONSGML v1.0//EN
CALSCALE:GREGORIAN
METHOD:PUBLISH
X-WR-CALNAME:North West Invertebrates
X-ORIGINAL-URL:https://www.northwestinvertebrates.org.uk
X-WR-CALDESC:Events for North West Invertebrates
REFRESH-INTERVAL;VALUE=DURATION:PT1H
X-Robots-Tag:noindex
X-PUBLISHED-TTL:PT1H
BEGIN:VTIMEZONE
TZID:Europe/London
BEGIN:DAYLIGHT
TZOFFSETFROM:+0000
TZOFFSETTO:+0100
TZNAME:BST
DTSTART:20220327T010000
END:DAYLIGHT
BEGIN:STANDARD
TZOFFSETFROM:+0100
TZOFFSETTO:+0000
TZNAME:GMT
DTSTART:20221030T010000
END:STANDARD
BEGIN:DAYLIGHT
TZOFFSETFROM:+0000
TZOFFSETTO:+0100
TZNAME:BST
DTSTART:20230326T010000
END:DAYLIGHT
BEGIN:STANDARD
TZOFFSETFROM:+0100
TZOFFSETTO:+0000
TZNAME:GMT
DTSTART:20231029T010000
END:STANDARD
BEGIN:DAYLIGHT
TZOFFSETFROM:+0000
TZOFFSETTO:+0100
TZNAME:BST
DTSTART:20240331T010000
END:DAYLIGHT
BEGIN:STANDARD
TZOFFSETFROM:+0100
TZOFFSETTO:+0000
TZNAME:GMT
DTSTART:20241027T010000
END:STANDARD
END:VTIMEZONE
BEGIN:VEVENT
DTSTART;TZID=Europe/London:20230602T100000
DTEND;TZID=Europe/London:20230602T160000
DTSTAMP:20260424T181528
CREATED:20230331T130854Z
LAST-MODIFIED:20230404T125226Z
UID:9909-1685700000-1685721600@www.northwestinvertebrates.org.uk
SUMMARY:Warton Crag Invertebrate Recording Day
DESCRIPTION:Book here. \nThis will be a joint recording day with the British Entomological & Natural History Society (BENHS). \nOne of the most important sites in the region for rare invertebrates\, and studied quite well over the years. However\, in 2022\, Ben Smart found Doros profuges\, a Near Threatened hoverfly\, and this event presents an opportunity to find out more about its distribution on site and possibly a chance to study it’s behaviour although there are no guarantees with this elusive species! \nThe extensive site boasts a mosaic of habitats; limestone grassland\, interspersed with scrub\, limestone pavement\, and ancient semi-natural woodland. A diverse herb-rich flora includes significant patches of Bird’s-foot trefoil\, horseshoe vetch and kidney vetch\, common rock rose and thyme. There is public access given by the three land owners – RSPB\, Lancashire Wildlife Trust and Lancaster City Council. \nThis large site requires significant uphill walking on difficult terrain. The site peaks at 163m asl. \n\n\n\n\n\n\n\n\n\n\nPlease be aware that whilst we welcome invertebrate recorders of all experience levels\, our recording days are not taught or guided sessions. (Check out our webinars/workshops here). \nEvents will be subject to cancellation if there is an adverse weather forecast. \nBooking essential: Further details regarding meeting place etc. will be circulated before the day.
URL:https://www.northwestinvertebrates.org.uk/event/wartoncrag/
LOCATION:Warton Crag\, Warton\, Carnforth\, LA5 9RY
CATEGORIES:Recording Days
ATTACH;FMTTYPE=image/jpeg:https://www.northwestinvertebrates.org.uk/wp-content/uploads/2023/03/20230325_133906-scaled.jpg
END:VEVENT
BEGIN:VEVENT
DTSTART;TZID=Europe/London:20230625T100000
DTEND;TZID=Europe/London:20230625T160000
DTSTAMP:20260424T181528
CREATED:20230406T113616Z
LAST-MODIFIED:20230406T113616Z
UID:9888-1687687200-1687708800@www.northwestinvertebrates.org.uk
SUMMARY:Childwall Woods Invertebrate Recording Day
DESCRIPTION:Childwall Woods and Fields Local Nature Reserve is situated in Childwall\, Liverpool. The site is owned by Liverpool City Council and managed by an active voluntary friends of group. \nThe site includes historic woodland with swathes of spring bluebells\, meadows\, scrub\, glades\, plantations and ponds with views over the Cheshire plain. \n\n\n\n\n\n\n\n\n\n\nPlease be aware that whilst we welcome invertebrate recorders of all experience levels\, our recording days are not taught or guided sessions. (Check out our webinars/workshops here). \nEvents will be subject to cancellation if there is an adverse weather forecast. \nBooking essential: Further details regarding meeting place etc. will be circulated before the day.
URL:https://www.northwestinvertebrates.org.uk/event/childwall/
LOCATION:Childwall Woods\, Childwall Woods\, Liverpool\, L16 0JW
CATEGORIES:Recording Days
ATTACH;FMTTYPE=image/jpeg:https://www.northwestinvertebrates.org.uk/wp-content/uploads/2023/03/20230302_105442-scaled.jpg
END:VEVENT
END:VCALENDAR